BEGIN:VCALENDAR
VERSION:2.0
PRODID:-//Gloucester School Sport Network - ECPv6.15.20//NONSGML v1.0//EN
CALSCALE:GREGORIAN
METHOD:PUBLISH
X-WR-CALNAME:Gloucester School Sport Network
X-ORIGINAL-URL:https://gssn.co.uk
X-WR-CALDESC:Events for Gloucester School Sport Network
REFRESH-INTERVAL;VALUE=DURATION:PT1H
X-Robots-Tag:noindex
X-PUBLISHED-TTL:PT1H
BEGIN:VTIMEZONE
TZID:UTC
BEGIN:STANDARD
TZOFFSETFROM:+0000
TZOFFSETTO:+0000
TZNAME:UTC
DTSTART:20250101T000000
END:STANDARD
END:VTIMEZONE
BEGIN:VEVENT
DTSTART;TZID=UTC:20260114T093000
DTEND;TZID=UTC:20260114T120000
DTSTAMP:20260421T080621
CREATED:20221017T085838Z
LAST-MODIFIED:20251020T181110Z
UID:235662-1768383000-1768392000@gssn.co.uk
SUMMARY:KS1 SPORTSHALL ATHLETICS FESTIVAL
DESCRIPTION:”’ Please note the change in the venue***\nSchools are invited to take part in our Key Stage 1 – Sportshall Athletics Competition. \nEVENT OVERVIEW\nDate: Wednesday 14th January\nTimes: 9.30– 12.00\nSportshall at Barnwood Park\n\nTHE TEAMS\nThis competition is open to boys and girls in years 1 and 2.\nSquads: MiXED TEAS OF 10\, 5 BOYS AND 5 GIRLS. \nEVENT LEAD \nGSSN staff with the running of the event with the support of The Crypt School Sport leaders. \nEVENT FORMAT \nSportshall Primary provides the ideal format in which to introduce young people to grassroots athletics and multi-skills competition in a fun team based format.   \nAll children will take part in each of the following field events\, this will be on a carousel rotation: \n1. Push pass\n2. Soft Javelin Throw\n3. Standing Long Jump\n4. Triple Jump\n5. Tunnels\n6. Speed Bounce\n7. High Stepper\n8. Vertical Jump\n9. Hurdles\n10. Relay passing\nFollowing this\, there will be a series of obstacle relay races\, each with 5 boys and 5 girls. \nPlease email bh@gsn.o.uk to send along a team.
URL:https://gssn.co.uk/event/sportshall-athletics-large-schools-competition/
LOCATION:Barnwood Park Arts College\, St Lawrence Road\, Gloucester\, Gl4 3QT
CATEGORIES:Primary,SEND
ATTACH;FMTTYPE=image/jpeg:https://gssn.co.uk/wp-content/uploads/2022/10/2025-SHA-KS1-PIC-3.jpg
ORGANIZER;CN="Gloucester School Sports Network":MAILTO:cs@gssn.co.uk
END:VEVENT
BEGIN:VEVENT
DTSTART;TZID=UTC:20260114T140000
DTEND;TZID=UTC:20260114T150000
DTSTAMP:20260421T080621
CREATED:20231122T105722Z
LAST-MODIFIED:20260114T080629Z
UID:236213-1768399200-1768402800@gssn.co.uk
SUMMARY:COUNTY CROSS COUNTRY SQUAD TRAINING SESSION
DESCRIPTION:County Cross Country Squad training sessions (all 14.00-15.00) \nAll sessions will take place at Plock Court – meeting at the Pavilion next to the University Sports Arena. (Top car park\, pass the tennis center) \nThursday 4th December = 14.00-15.00\nWednesday 14th January – 14.00-15.00\nWednesday 4th February – 14.00-15.00\nWednesday 25th February – 14.00-15.00 – County Squad selection races \nCounty Championships Sunday 8th March – Ashley Manor Preparatory School\, Ashley Manor\, 252 London Road\, Cheltenham\, GL52 6NR \nSunday 8th March – Meet at 9.00 o’clock at Ashley Manor Preparatory School \nTRAINING SESSIONS:\nAll squad members are encouraged to run for 20 mins non-stop twice weekly. \nIn addition to the runs\, athletes may try to complete at least once a week in between our squad training sessions. \n10 minute warm-up – jog and stretch\nDrills – high knees /heel flicks/ skips\nSpeed endurance – shuttle runs on football pitch -goal line/halfway line/ goal line /baseline\nTimed run – 2000 m (just over 2 miles) must be continuous – 10 minutes\nCool down – jog and stretch \nCheryl Stennett\nGSSN Network Manager /  School Games Organiser\nTel: 07817332928\nwww.gssn.co.uk
URL:https://gssn.co.uk/event/county-cross-country-squad-training-sessions/
LOCATION:Plock Court – Oxstalls University Arena\, Plock Court\, Tewkesbury Road\, Gloucester\, Gloucestershire\, GL2 9DW\, United Kingdom
CATEGORIES:Primary
ORGANIZER;CN="Gloucester School Sports Network":MAILTO:cs@gssn.co.uk
END:VEVENT
END:VCALENDAR