BEGIN:VCALENDAR
VERSION:2.0
PRODID:-//Gloucester School Sport Network - ECPv6.15.20//NONSGML v1.0//EN
CALSCALE:GREGORIAN
METHOD:PUBLISH
X-WR-CALNAME:Gloucester School Sport Network
X-ORIGINAL-URL:https://gssn.co.uk
X-WR-CALDESC:Events for Gloucester School Sport Network
REFRESH-INTERVAL;VALUE=DURATION:PT1H
X-Robots-Tag:noindex
X-PUBLISHED-TTL:PT1H
BEGIN:VTIMEZONE
TZID:UTC
BEGIN:STANDARD
TZOFFSETFROM:+0000
TZOFFSETTO:+0000
TZNAME:UTC
DTSTART:20240101T000000
END:STANDARD
END:VTIMEZONE
BEGIN:VEVENT
DTSTART;TZID=UTC:20250925T090000
DTEND;TZID=UTC:20250925T150000
DTSTAMP:20260423T095515
CREATED:20220915T120051Z
LAST-MODIFIED:20250716T152813Z
UID:235569-1758790800-1758812400@gssn.co.uk
SUMMARY:​​​PRIMARY SCHOOLS' PE AND SCHOOL SPORT CONFERENCE 2025
DESCRIPTION:All schools are invited to attend our 2025 Gloucester Primary Schools’ PE and School Sport Conference \nJoin us for what promises to be a great opportunity to connect with other local PE Leads and acquire valuable knowledge on current trending topics. \nAGENDA\n9.00 Arrival\, coffee and networking\n9.30 by Cheryl Stennett\nWelcome / Review of the year\nFeedback received  / Any new requests\nOnline Reporting Tool—feedback on the process\n10.00 by Bob Owen\n”Response-Ability”\n10.50 Break / Networking\n11.10 by Cheryl Stennett\nPlans for our year ahead\nNew Active 30 school’s ‘free’ resource from Active Gloucestershire\n12.00 By our partners—confirmed so far: Golf / Tennis / Cricket\n12.30 Lunch / Networking\n13.00 Practical CPD Session\nChoose from:\nUnleash Your Drive – Golf Foundation / Hartpury Gold Academy – teaching resources /\ndiscounted golf equipment.\nLTA Youth Tennis Programme – £200 free equipment or coaching in your school.\n14.45 End and depart  \nTo non-affiliated schools there will be a charge of £100\nVenue address:  Oxstalls Sports Arena Plock Court\, Tewkesbury Road\, Gloucester GL2 9DW.  \nTo book a place/s please email: bh@gsn.co.uk
URL:https://gssn.co.uk/event/primary-pe-conference-2022-providing-the-opportunity/
LOCATION:Oxstalls Sports Park (Plock Court)\, Plock court Tewkesbury road\, Longfoid\, Gloucester\, Gl2 9GW
CATEGORIES:CPD,Primary
ATTACH;FMTTYPE=image/png:https://gssn.co.uk/wp-content/uploads/2022/09/GSSN-LOGO-JPEG.png
END:VEVENT
END:VCALENDAR