BEGIN:VCALENDAR
VERSION:2.0
PRODID:-//Gloucester School Sport Network - ECPv6.15.20//NONSGML v1.0//EN
CALSCALE:GREGORIAN
METHOD:PUBLISH
X-WR-CALNAME:Gloucester School Sport Network
X-ORIGINAL-URL:https://gssn.co.uk
X-WR-CALDESC:Events for Gloucester School Sport Network
REFRESH-INTERVAL;VALUE=DURATION:PT1H
X-Robots-Tag:noindex
X-PUBLISHED-TTL:PT1H
BEGIN:VTIMEZONE
TZID:UTC
BEGIN:STANDARD
TZOFFSETFROM:+0000
TZOFFSETTO:+0000
TZNAME:UTC
DTSTART:20230101T000000
END:STANDARD
END:VTIMEZONE
BEGIN:VEVENT
DTSTART;TZID=UTC:20240611T093000
DTEND;TZID=UTC:20240611T140000
DTSTAMP:20260421T081207
CREATED:20220218T145019Z
LAST-MODIFIED:20230927T143919Z
UID:235343-1718098200-1718114400@gssn.co.uk
SUMMARY:ROUNDERS TOURNAMENT - CHAMPIONSHIP TEAMS
DESCRIPTION:All Schools are invited to take part in our Primary Rounders Tournament which will be taking place at the Lansdown Road school field of Denmark Road High School. \nTHE TEAMS\nBoth tournaments are for boys and girls in Years 5 and 6 (small schools can use Year 4 students if required).\nTotal squad 12 players.\nEach team must have no more than 9 players on the field\, with at least 4 girls playing at any one time.\nA B team competition will run alongside the main competition. Schools can enter A and B teams. \nEVENT FORMAT\nFor a full set of rules\, refer to the GPSFA “Rounders Rules” pages 51-56 in our Sports Handbook or email bh@gssn.co.uk to request a copy. \nEVENT LEAD \nThe GSSN staff\, along with Denmark Road High School Sports Leaders\, will be\ndelivering the Rounders Tournaments. \nVENUE\nDenmark Road School Field\nat Lansdown Road with Heathville Road\nGloucester\nGL1 3JE (approximate post code)
URL:https://gssn.co.uk/event/primary-rounders-tournament/
LOCATION:Lansdown Road Open Fields (DRHS)\, Lansdown Road\, Gloucester\, Gloucestershire\, GL1 3\, United Kingdom
CATEGORIES:Primary
ATTACH;FMTTYPE=image/jpeg:https://gssn.co.uk/wp-content/uploads/2022/02/2023-ROUNDERS-PIC-3.jpg
END:VEVENT
BEGIN:VEVENT
DTSTART;TZID=UTC:20240618T093000
DTEND;TZID=UTC:20240618T140000
DTSTAMP:20260421T081207
CREATED:20220520T115252Z
LAST-MODIFIED:20230927T144035Z
UID:235539-1718703000-1718719200@gssn.co.uk
SUMMARY:EAL / LOW CONFIDENCE TARGET GROUPS  TEAM BUILDING FESTIVAL
DESCRIPTION:All schools are invited to our first EAL / Low confidence target group – Team Building Festival. \nWe will run two sessions\, a Key Stage 1 in the morning and a Key Stage 2 in the afternoon.\nAM Session: 9.30—11.30\nPM Session: 12.00—14.00 \nTHE TEAMS\nThis event is specially designed for your EAL and low-confidence pupils. Teams are made of up to 10 children\, mixed boys and girls.\nOpen to pupils across all Key Stages. Ideally a group of 10 ‘least active’ pupils that have never had the opportunity to represent the school in more traditional sports.\nWe can offer up to 7 school groups per session with a maximum of 10 pupils per group.  \nEVENT LEAD\nLive Life Adventure\, the organisation behind The Duke of Edinburgh’s Award\nand expeditions is supporting the GSSN with the running of this event.\nTheir team of experienced and enthusiastic staff will be delivering an event like no other. \nEVENT FORMAT\nIt will involve a series of team-building activities that will encourage and support pupils’ ability to communicate and work alongside each other. Example of activities:\n– Negotiate your way through a giant spider’s web.\n– Make fire and toast marshmallows.\n– Fly on a magic carpet.\n– Bomber man puzzle.\n– Build and launch your own rocket. \nShould you wish to attend please email bh@gssn.co.uk
URL:https://gssn.co.uk/event/eal-low-confidence-target-groups-team-building-festival/
LOCATION:Plock Court Open Fields\, Plock Court\, Tewkesbury Road\, Gloucester\, Gloucestershire\, GL2 9DW\, United Kingdom
CATEGORIES:Primary,SEND
ATTACH;FMTTYPE=image/jpeg:https://gssn.co.uk/wp-content/uploads/2022/05/IMG_20220609_132921-scaled.jpg
END:VEVENT
END:VCALENDAR