BEGIN:VCALENDAR
VERSION:2.0
PRODID:-//Gloucester School Sport Network - ECPv6.15.20//NONSGML v1.0//EN
CALSCALE:GREGORIAN
METHOD:PUBLISH
X-ORIGINAL-URL:https://gssn.co.uk
X-WR-CALDESC:Events for Gloucester School Sport Network
REFRESH-INTERVAL;VALUE=DURATION:PT1H
X-Robots-Tag:noindex
X-PUBLISHED-TTL:PT1H
BEGIN:VTIMEZONE
TZID:UTC
BEGIN:STANDARD
TZOFFSETFROM:+0000
TZOFFSETTO:+0000
TZNAME:UTC
DTSTART:20250101T000000
END:STANDARD
END:VTIMEZONE
BEGIN:VEVENT
DTSTART;TZID=UTC:20260702T093000
DTEND;TZID=UTC:20260702T113000
DTSTAMP:20260420T093342
CREATED:20240604T081114Z
LAST-MODIFIED:20250716T155636Z
UID:236311-1782984600-1782991800@gssn.co.uk
SUMMARY:YEARS 1/2 BENCHBALL TOURNAMENT (3/3)
DESCRIPTION:All our affiliated schools are invited to take part in our ever popular – Years 1/2 Benchball Tournament. \nPlease note that this is one of three events we are running this academic year.\nTuesday 4th November at Churchdown Village Infant School\nWednesday 5th November at Dinglewell Infant School\nThursday 2nd July at Longford Park primary School \nTHE TEAMS\nThis competition is for boys and girls in Years 1 and 2.\nSquad of 10 with 8 players on the court and any one time.\nEVENT LEAD \nThe GSSN staff will be leading this event with the support of Dinglewell Infant School staff.\nEVENT FORMAT \nThe overall length of the event will be 2 hours\, with games of 5 minutes long.\nAll competitors will receive a certificate with medals being awarded to the top three placed schools.  \nTo register a team/s email bh@gssn.co.uk
URL:https://gssn.co.uk/event/ks1-benchball-competition/
LOCATION:Longford Park Primary Academy\, Clock Tower Road\, Longford\, Gloucester\, Gloucestershire\, GL2 9FB\, United Kingdom
CATEGORIES:Primary,SEND
ATTACH;FMTTYPE=image/jpeg:https://gssn.co.uk/wp-content/uploads/2024/06/20240702_103917-scaled.jpg
END:VEVENT
END:VCALENDAR