BEGIN:VCALENDAR
VERSION:2.0
PRODID:-//Gloucester School Sport Network - ECPv6.15.20//NONSGML v1.0//EN
CALSCALE:GREGORIAN
METHOD:PUBLISH
X-WR-CALNAME:Gloucester School Sport Network
X-ORIGINAL-URL:https://gssn.co.uk
X-WR-CALDESC:Events for Gloucester School Sport Network
REFRESH-INTERVAL;VALUE=DURATION:PT1H
X-Robots-Tag:noindex
X-PUBLISHED-TTL:PT1H
BEGIN:VTIMEZONE
TZID:UTC
BEGIN:STANDARD
TZOFFSETFROM:+0000
TZOFFSETTO:+0000
TZNAME:UTC
DTSTART:20210101T000000
END:STANDARD
END:VTIMEZONE
BEGIN:VEVENT
DTSTART;TZID=UTC:20220512T100000
DTEND;TZID=UTC:20220512T120000
DTSTAMP:20260421T194923
CREATED:20220418T184523Z
LAST-MODIFIED:20220418T184523Z
UID:235479-1652349600-1652356800@gssn.co.uk
SUMMARY:School Debating Competition - Commonwealth Games
DESCRIPTION:We are pleased to offer your school the opportunity to take part in our first debating competition. You will be debating on the question below. \n“Is the commonwealth relevant in today’s society?” \nThe Primary school’s event will be open to year 5 and 6 pupils\, taking place from 10.00-12.00 on Thursday 12th May at the University Indoor Arena\, Plock Court GL2 9DW.  \nThe competition format will include an initial proposal followed by an opposing response; one further round of proposal and response followed by questions from the floor and judging panel. (Each proposal/response will be no longer than 2 minutes). Each team will then be given 5 minutes to prepare a 3-minute team summary.    \nHow will the winning team be determined?  \nTeams will be judged against a range of criteria\, designed to demonstrate their topic knowledge\, ability to develop a convincing motion and reasoned response\, depth of thinking\, presentation\, and ability to communicate effectively (under pressure)   \nWithin the format of the debate judgments will be formed through;  \nQuality of proposal/reply delivery (content and presentation)\nResponse to challenge (from opposing team\, floor/audience\, judging panel)\nQuestions provide from the floor *  \nSpeaker 1 – sets the scene\nSpeaker 2 – develops the argument\nSpeaker 3 – sums it up and adds any further information to the argument.  \nExamples/facts and figures/quotes are all good ways of supporting what they are saying so evidence of this is good!  \nAny quesitons\, please contact Cheryl Stennett on cs@gssn.co.uk
URL:https://gssn.co.uk/event/school-debating-competition-commonwealth-games/
LOCATION:Gloucestershire
CATEGORIES:Primary
ORGANIZER;CN="Gloucester School Sports Network":MAILTO:cs@gssn.co.uk
END:VEVENT
BEGIN:VEVENT
DTSTART;VALUE=DATE:20220404
DTEND;VALUE=DATE:20220405
DTSTAMP:20260421T194923
CREATED:20220314T212702Z
LAST-MODIFIED:20220314T212702Z
UID:235442-1649030400-1649116799@gssn.co.uk
SUMMARY:Commonwealth Games Art Poster Competition
DESCRIPTION:We are running a Commonwealth Games Art Poster virtual Art Competition\, the theme is the values of the games which are;  Humanity\, Equality\, and Destiny.\n\nWe want inspirational designs\, with uplifting messages and captivating ideas.\n\nFor our Primary schools\, this competition is open to all year groups\, and for our secondary schools\, it is open to Year 7 and 8 pupils. All entries are due by Monday 4th April at 12.00 at the latest.\n \nSchools send your entries directly to Cheryl at cs@gssn.co.uk\, Jpeg\, or pdf\, all winners will have their posters published on our GSSN website\, Twitter account and receive a certificate in recognition of their achievement. A display of the posters will also be shown at our Commonwealth Games celebration events.\n\nWe very much look forward to receiving your entries.\n\nKind regards\n\nCheryl\n\nhttps://www.birmingham2022.com/sports
URL:https://gssn.co.uk/event/commonwealth-games-art-poster-competition/
LOCATION:Gloucestershire
CATEGORIES:Primary
END:VEVENT
BEGIN:VEVENT
DTSTART;TZID=UTC:20220117T094500
DTEND;TZID=UTC:20220117T143000
DTSTAMP:20260421T194923
CREATED:20220217T141558Z
LAST-MODIFIED:20220916T092328Z
UID:235138-1642412700-1642429800@gssn.co.uk
SUMMARY:KS1 & KS2 SEND PANATHLON CHALLENGE (AM & PM sessions)
DESCRIPTION:DATE: Tuesday 17th January 2023 \nVENUE: University Indoor Arena\, Oxtalls Sports Park\, Plock Court\, off Tewkesbury Road\, GL2 9DW \nMORNING SESSION KS1: Schools arrive: 9.45 am & Finish/schools depart: 11.45 pm \nAFTERNOON SESSION KS2: Schools arrive: 12.30 pm & Finish/schools depart: 2.30 pm \nSchools wishing to send a team to this event\, email bh@gssn.co.uk. Indicate preferred session (AM KS1 and/or PM KS2); the name of the teacher responsible for this event and contact details. \nEvent Lead\nThe Panathlon Challenge team is supporting the GSSN with the running of the event. \nThe Teams\nThis competition is for boys and girls from KS2\, all of whom have a Special Educational Need or Disability. \nTeams must be mixed and consist of 8 young people. \nSEND competitions are aimed specifically at SEND students. There is an expectation that participants DO NOT compete for the school in any other non-SEND linked sport.  The emphasis should be on encouraging participation for ALL young people\, particularly those that do not usually get an opportunity to represent their school. \nFestival Format\nThis event is a series of skills stations based on inclusive sports such as Basketball\, Boccia\, Football\, New Age Kurling\, and Table Top Cricket. Others include activities that are aimed at developing key fundamentals such as running\, jumping\, throwing\, and target-based games. \nEach team must collect points from each activity station. Specific Panathlon Challenge Medals will be awarded for 1st Gold\, 2nd Silver\, and 3rd Bronze (overall team).  \nThere are also participation medals for teams in 4th\, 5th\, and 6th… etc.
URL:https://gssn.co.uk/event/ks1-send-panathlon/
LOCATION:Indoor Arena – University of Gloucestershire\, Plock Court\, Tewkesbury Road\, Gloucester\, Gloucestershire\, GL2 9DW\, United Kingdom
CATEGORIES:Primary,SEND
ATTACH;FMTTYPE=image/jpeg:https://gssn.co.uk/wp-content/uploads/2022/02/panathlon_8.jpg
END:VEVENT
END:VCALENDAR