BEGIN:VCALENDAR
VERSION:2.0
PRODID:-//Gloucester School Sport Network - ECPv6.15.20//NONSGML v1.0//EN
CALSCALE:GREGORIAN
METHOD:PUBLISH
X-WR-CALNAME:Gloucester School Sport Network
X-ORIGINAL-URL:https://gssn.co.uk
X-WR-CALDESC:Events for Gloucester School Sport Network
REFRESH-INTERVAL;VALUE=DURATION:PT1H
X-Robots-Tag:noindex
X-PUBLISHED-TTL:PT1H
BEGIN:VTIMEZONE
TZID:UTC
BEGIN:STANDARD
TZOFFSETFROM:+0000
TZOFFSETTO:+0000
TZNAME:UTC
DTSTART:20240101T000000
END:STANDARD
END:VTIMEZONE
BEGIN:VEVENT
DTSTART;TZID=UTC:20251001T093000
DTEND;TZID=UTC:20251001T113000
DTSTAMP:20260423T095124
CREATED:20230906T100645Z
LAST-MODIFIED:20250611T151252Z
UID:235873-1759311000-1759318200@gssn.co.uk
SUMMARY:YEARS 3/4 BENCHBALL TOURNAMENT (1/2)
DESCRIPTION:Thi is one out of two competitions that we will run this year:\nWednesday 1st October\nThursday 2nd October\nBoth events are hosted by Longford Park Primary Academy and will run from 9.30 – 11.30\nTHE TEAMS\nThis competition is for boys and girls in Years 3 and 4.\nSquad of 10 with 8 players on the court and any one time.\nEVENT LEAD \nThe GSSN staff will be leading this event with the support of Longford Park\nPrimary Academy staff.\nEVENT FORMAT \nThe overall length of the event will be 2 hours\, with games of 5 minutes long.\nAll competitors will receive a certificate with medals being awarded to the top three placed schools.\nRULES\n Chest and overhead pass only with two hands.\n Players can cross the centre line once play starts.\n If the ball is caught by the person on the bench\, the player that threw it goes on the bench.\n First team to get all their players on the bench wins\, or the team with the most players on the bench at the end of the game wins. If\, when the ball is caught on the bench\, the player falls off – it doesn’t count.\n Players can’t move with the ball. \nTo register a team\, schools please email bh@gssn.co.uk
URL:https://gssn.co.uk/event/years-1-2-benchball-tournament/
LOCATION:Longford Park Primary Academy\, Clock Tower Road\, Longford\, Gloucester\, Gloucestershire\, GL2 9FB\, United Kingdom
CATEGORIES:CPD,Primary,SEND
ATTACH;FMTTYPE=image/jpeg:https://gssn.co.uk/wp-content/uploads/2023/09/FeN5irHXEAATt5x.jpeg
END:VEVENT
BEGIN:VEVENT
DTSTART;TZID=UTC:20251002T093000
DTEND;TZID=UTC:20251002T113000
DTSTAMP:20260423T095124
CREATED:20230202T110805Z
LAST-MODIFIED:20250611T151335Z
UID:235746-1759397400-1759404600@gssn.co.uk
SUMMARY:YEARS 3/4 BENCHBALL TOURNAMENT (2/2)
DESCRIPTION:Thi is one out of two competitions that we will run this year:\nWednesday 1st October\nThursday 2nd October\nBoth events are hosted by Longford Park Primary Academy and will run from 9.30 – 11.30\nTHE TEAMS\nThis competition is for boys and girls in Years 3 and 4.\nSquad of 10 with 8 players on the court and any one time.\nEVENT LEAD \nThe GSSN staff will be leading this event with the support of Longford Park\nPrimary Academy staff.\nEVENT FORMAT \nThe overall length of the event will be 2 hours\, with games of 5 minutes long.\nAll competitors will receive a certificate with medals being awarded to the top three placed schools.\nRULES\n Chest and overhead pass only with two hands.\n Players can cross the centre line once play starts.\n If the ball is caught by the person on the bench\, the player that threw it goes on the bench.\n First team to get all their players on the bench wins\, or the team with the most players on the bench at the end of the game wins. If\, when the ball is caught on the bench\, the player falls off – it doesn’t count.\n Players can’t move with the ball. \nTo register a team\, schools please email bh@gssn.co.uk
URL:https://gssn.co.uk/event/year-3-4-benchball-competition/
LOCATION:Longford Park Primary Academy\, Clock Tower Road\, Longford\, Gloucester\, Gloucestershire\, GL2 9FB\, United Kingdom
CATEGORIES:CPD,Primary,SEND
ATTACH;FMTTYPE=image/jpeg:https://gssn.co.uk/wp-content/uploads/2023/02/thumbnail_IMG-20221004-WA0003.jpg
END:VEVENT
BEGIN:VEVENT
DTSTART;TZID=UTC:20251008T093000
DTEND;TZID=UTC:20251008T233000
DTSTAMP:20260423T095124
CREATED:20220218T144452Z
LAST-MODIFIED:20250716T153020Z
UID:235332-1759915800-1759966200@gssn.co.uk
SUMMARY:TABLE TENNIS TOURNAMENT
DESCRIPTION:All GSSN schools are invited to our Table Tennis Competition. \nTHE TEAMS\nThis competition is for boys and girls in Key Stage 2.\n4 boys and 4 girls—any age and any ability. \nEVENT LEAD \nThe GSSN staff will be leading this event with the support of Upton St Leonards C of E Primary School staff. \nEVENT FORMAT \nPlayers will be seeded 1 \, 2\, 3 and 4 -this will be their playing order.\nAll competitors will receive a certificate with medals being awarded to the top three placed schools.\nRULES\n Each player will play an individual singles match against their opposite ranked player.\n Players will also play one doubles match. (1 and 2 verses 1 and 2\, and 3 and 4 verses 3 and 4)\n The boy’s and girls’ results will be totalled together\, and the team winning the most games will win overall.\n Each game will be played to 11 points with alternate serves every two points.\n A serve that touches the net is a ‘Let’.
URL:https://gssn.co.uk/event/table-tennis-competition/
LOCATION:Upton St Leonards Primary School\, Bond End Road\, Gloucester\, GL4 8ED
CATEGORIES:Primary,SEND
ATTACH;FMTTYPE=image/jpeg:https://gssn.co.uk/wp-content/uploads/2022/02/IMG_20220608_094900_1.jpg
END:VEVENT
BEGIN:VEVENT
DTSTART;TZID=UTC:20251015T101500
DTEND;TZID=UTC:20251015T143000
DTSTAMP:20260423T095124
CREATED:20220916T063812Z
LAST-MODIFIED:20250716T153126Z
UID:235585-1760523300-1760538600@gssn.co.uk
SUMMARY:KS1 & KS2 SEND TENPIN BOWLING FESTIVAL
DESCRIPTION:We would like to offer our schools the opportunity to attend our KS1 & KS2 Tenpin Bowling Festivals at Centre Severn in Barnwood\, GL4 3HR. \nTo accommodate more schools\, we will run a Key Stage 2 session in the morning\, and a Key Stage 1 in the afternoon. The timings will be as follows: \nAM KS2 – Schools arrive by 10.15 am (do not arrive earlier as premises do not open until 10) & Finish by 12.15 pm \nPM KS1 – Schools arrive by 12.45 pm (or earlier if they would like to have lunch before) & Finish by 2.30 pm\n  \nEvent Lead\nThe Panathlon Foundation working in partnership with the Gloucester School Sports Network will be running a Tenpin Bowling competition for SEND primary-aged children.\nPanathlon runs many of these days across the country and is trying to engage new children in a sporting activity.  \nThe Teams\nEntries are limited to a maximum of 6 students per school team. No fewer than 4 children per team.\nThe event is open to any child on the SEND register from KS1 or KS2.\nStudents will be able to play 1 game for competition points (the game lasts roughly an hour and 10- 15 minutes)\nAt the end of the competition\, there will be a presentation for the students with medals and certificates. \nSchools wishing to send a team\, email bh@gssn.co.uk indicating your preferred session.
URL:https://gssn.co.uk/event/ks1-ks2-send-ten-pin-bowling-festival/
LOCATION:Tenpin Centre Severn\, Barnwood\, Gloucester\, Gloucestershire\, GL4 3HR\, United Kingdom
CATEGORIES:Primary,SEND
ATTACH;FMTTYPE=image/jpeg:https://gssn.co.uk/wp-content/uploads/2022/09/FfWC2mTX0AAi60T.jpeg
END:VEVENT
BEGIN:VEVENT
DTSTART;TZID=UTC:20251016T093000
DTEND;TZID=UTC:20251016T120000
DTSTAMP:20260423T095124
CREATED:20230925T132301Z
LAST-MODIFIED:20250716T153611Z
UID:235959-1760607000-1760616000@gssn.co.uk
SUMMARY:BOYS ONLY - BASKETBALL TASTER SESSION AND TOURNAMENT
DESCRIPTION:Following the success of our events last year\, we are excited to announce that we will once again run separate events for boys and girls in this year’s calendar. \nGIRLS ONLY EVENT on Thurs 18th September\nBOYS ONLY EVENT on Thurs 16th October\nBoth will run from 9.45 – 12.00 at Sir Thomas Rich’s School. \nTHE TEAMS\nThis event for boys and girls in years 4 to 6.\nEach school can bring along a squad of up to 10 players\, with 5 in each team to play the tournament. \nEVENT LEAD\nSir Thomas Rich’s School Sport Leaders will be supporting the GSSN with the running of this event. \nEVENT FORMAT\n9.45 Schools arrive\n10.00—11.00 Basketball skills and drills to include: \nDribbling and passing\nReceiving and shooting (set and layup shots)\nOne on one marking\nBasic zone defence formation \n11.00—12.00 5 a-side games in a round robin format (number of teams dependent). \nSchools wanting to send teams to these events\, email bh@gssn.co.uk
URL:https://gssn.co.uk/event/basketball-taster-session-and-tournament/
LOCATION:Sir Thomas Rich’s School\, Oakleaze\, Gloucester\, Gloucestershire\, GL2 0LF\, United Kingdom
CATEGORIES:CPD,Primary,SEND
ATTACH;FMTTYPE=image/webp:https://gssn.co.uk/wp-content/uploads/2023/09/GLOS-CITY-BASKETBALL-PIC.webp
END:VEVENT
BEGIN:VEVENT
DTSTART;TZID=UTC:20251022T093000
DTEND;TZID=UTC:20251022T113000
DTSTAMP:20260423T095124
CREATED:20230911T094140Z
LAST-MODIFIED:20250716T153934Z
UID:235892-1761125400-1761132600@gssn.co.uk
SUMMARY:KS1 GIRLS TAG RUGBY FESTIVAL
DESCRIPTION:This is a fun introduction to tag rugby in a girl’s only environment. There will be a range of activities set up for the girls to practise the core skills of catch\, pass\, run\, the introduction of tag as a tackle and learn what a game of Tag Rugby is.  A fun\, safe and inclusive environment\, allowing individual’s to enjoy the fundamentals of rugby whilst developing personal and social skills. Last year’s event saw over 200 girls taking part! A huge success! \nEVENTS OVERVIEW\nKS2: Wed 22nd October\nKS1: Thurs 23rd October\n9.30 -11.30 \nVENUE\nGordon League\nHempsted Lane\, Gloucester\nGL2 5JN \nTHE TEAMS\nAs this is a skills based event schools are welcome to bring up to 30 girls\nin each of the Festivals. \nEVENT LEAD\nThe GSSN Staff along with Gordon League and  Ribston Hall High School Sport Leaders will be leading this event. \nGordon League Rugby Club\, located in Hempsted\, is excited to host schools for a fun\, friendly\, and safe Girls’ Rugby Festival\, aimed at inspiring young girls to stay active\, build confidence\, and develop a passion for rugby. Beyond the festival\, the club supports schools by offering free rugby coaching\, access to facilities\, and free memberships for pupils entitled to Free School Meals. As the first and only club on the south side of the city to provide “Girls-only Rugby” for primary school-aged girls and soon introducing T1 Rugby—a non-contact format created with World Rugby—Gordon League Rugby Club is committed to inclusivity and fostering the next generation of female rugby enthusiasts. Contact Tom Nurse for more details on how Gordon League RFC can support your school:  Thomas.nurse@yahoo.co.uk \nSchools email bh@gssn.co.uk to register a team.
URL:https://gssn.co.uk/event/ks1-girls-tag-rugby-festival/
LOCATION:Gordon League RFC\, Hempsted Lane\, Gloucester\, Gloucestershire\, GL2 5JN\, United Kingdom
CATEGORIES:Primary
ATTACH;FMTTYPE=image/png:https://gssn.co.uk/wp-content/uploads/2023/09/KS1-GIRLS-TAG-RUGBY-PIC-3.png
END:VEVENT
BEGIN:VEVENT
DTSTART;TZID=UTC:20251023T093000
DTEND;TZID=UTC:20251023T113000
DTSTAMP:20260423T095124
CREATED:20250716T154044Z
LAST-MODIFIED:20250716T154044Z
UID:236504-1761211800-1761219000@gssn.co.uk
SUMMARY:KS2 GIRLS ONLY TAG RUGBY TOURNAMENT
DESCRIPTION:NEW THIS YEAR!\nThis is a fun introduction to tag rugby in a girl’s only environment. There will be a range of activities set up for the girls to practise the core skills of catch\, pass\, run\, the introduction of tag as a tackle and learn what a game of Tag Rugby is.  A fun\, safe and inclusive environment\, allowing individual’s to enjoy the fundamentals of rugby whilst developing personal and social skills. Last year’s event saw over 200 girls taking part! A huge success! \nEVENTS OVERVIEW\nKS2: Wed 22nd October\nKS1: Thurs 23rd October\n9.30 -11.30 \nVENUE\nGordon League\nHempsted Lane\, Gloucester\nGL2 5JN \nTHE TEAMS\nAs this is a skills based event schools are welcome to bring up to 30 girls\nin each of the Festivals. \nEVENT LEAD\nThe GSSN Staff along with Gordon League and  Ribston Hall High School Sport Leaders will be leading this event. \nGordon League Rugby Club\, located in Hempsted\, is excited to host schools for a fun\, friendly\, and safe Girls’ Rugby Festival\, aimed at inspiring young girls to stay active\, build confidence\, and develop a passion for rugby. Beyond the festival\, the club supports schools by offering free rugby coaching\, access to facilities\, and free memberships for pupils entitled to Free School Meals. As the first and only club on the south side of the city to provide “Girls-only Rugby” for primary school-aged girls and soon introducing T1 Rugby—a non-contact format created with World Rugby—Gordon League Rugby Club is committed to inclusivity and fostering the next generation of female rugby enthusiasts. Contact Tom Nurse for more details on how Gordon League RFC can support your school:  Thomas.nurse@yahoo.co.uk \nSchools email bh@gssn.co.uk to register a team.
URL:https://gssn.co.uk/event/ks2-girls-only-tag-rugby-tournament/
LOCATION:Gordon League RFC\, Hempsted Lane\, Gloucester\, Gloucestershire\, GL2 5JN\, United Kingdom
END:VEVENT
END:VCALENDAR